BEGIN:VCALENDAR
VERSION:2.0
PRODID:spatie/icalendar-generator
DESCRIPTION:Évènements de ABE
X-WR-CALDESC:Évènements de ABE
REFRESH-INTERVAL;VALUE=DURATION:PT1440M
X-PUBLISHED-TTL:PT1440M
BEGIN:VTIMEZONE
TZID:Europe/Paris
BEGIN:STANDARD
DTSTART:20251026T030000Z
TZOFFSETFROM:+0200
TZOFFSETTO:+0100
END:STANDARD
BEGIN:DAYLIGHT
DTSTART:20260329T020000Z
TZOFFSETFROM:+0100
TZOFFSETTO:+0200
END:DAYLIGHT
BEGIN:STANDARD
DTSTART:20261025T030000Z
TZOFFSETFROM:+0200
TZOFFSETTO:+0100
END:STANDARD
END:VTIMEZONE
BEGIN:VTIMEZONE
TZID:UTC
BEGIN:STANDARD
DTSTART:20250729T111533Z
TZOFFSETFROM:+0000
TZOFFSETTO:+0000
END:STANDARD
END:VTIMEZONE
BEGIN:VEVENT
UID:137-123
DTSTAMP:20260425T111533Z
SUMMARY:Atelier Vidéo Davinci Resolve pour les débutants 7
LOCATION:Villa Romaine 1 rue de l\\'Atrium  Les Essarts-le-Roi  78690
ORGANIZER;CN=Jean-Marc:MAILTO:jmt.boisgontier@laposte.net
DTSTART;TZID=Europe/Paris:20260603T143000
DTEND;TZID=Europe/Paris:20260603T170000
X-ALT-DESC;FMTTYPE=TEXT/HTML:
CATEGORIES:Atelier
URL;VALUE=URI:https://abessarts.fr/mc-events/atelier-video-davinci-resolve-
 pour-les-debutants-7/
METHOD:PUBLISH
END:VEVENT
END:VCALENDAR